BEGIN:VCALENDAR
PRODID:http://wibix.de/infusions/pro_download_panel/download.php?did=27
VERSION:2.0
METHOD:PUBLISH
BEGIN:VEVENT
DTSTART:20220708T220000Z
UID:1105@http://www.BAWORAK.cz/
DTSTAMP:20220407T055351Z
DESCRIPTION:[url]https://www.baworak.cz/news.php?readmore=1248[/url]
SUMMARY:Setkání &quot;dvouventilových&quot; motocyklů BMW na Santově
CLASS:PUBLIC
RRULE:FREQ=DAILY;INTERVAL=1;UNTIL=20220709T220000Z
END:VEVENT
END:VCALENDAR
