BEGIN:VCALENDAR
PRODID:http://wibix.de/infusions/pro_download_panel/download.php?did=27
VERSION:2.0
METHOD:PUBLISH
BEGIN:VEVENT
DTSTART:20240418T220000Z
UID:1137@http://www.BAWORAK.cz/
DTSTAMP:20240205T083222Z
DESCRIPTION:[url]https://www.baworak.cz/news.php?readmore=1306[/url]
SUMMARY:Sraz GS fóra
CLASS:PUBLIC
RRULE:FREQ=DAILY;INTERVAL=1;UNTIL=20240420T220000Z
END:VEVENT
END:VCALENDAR
