BEGIN:VCALENDAR
PRODID:http://wibix.de/infusions/pro_download_panel/download.php?did=27
VERSION:2.0
METHOD:PUBLISH
BEGIN:VEVENT
DTSTART:20260519T220000Z
UID:1162@http://www.BAWORAK.cz/
DTSTAMP:20260204T061353Z
DESCRIPTION:[url]http://www.baworak.cz/news.php?readmore=1372[/url]
SUMMARY:BMW Motorrad Test Days Most 2026
CLASS:PUBLIC
RRULE:FREQ=DAILY;INTERVAL=1;UNTIL=20260520T220000Z
END:VEVENT
END:VCALENDAR
